BEGIN:VCALENDAR
VERSION:2.0
PRODID:-//Sara Paretsky - ECPv6.15.18//NONSGML v1.0//EN
CALSCALE:GREGORIAN
METHOD:PUBLISH
X-WR-CALNAME:Sara Paretsky
X-ORIGINAL-URL:https://saraparetsky.com
X-WR-CALDESC:Events for Sara Paretsky
REFRESH-INTERVAL;VALUE=DURATION:PT1H
X-Robots-Tag:noindex
X-PUBLISHED-TTL:PT1H
BEGIN:VTIMEZONE
TZID:America/Denver
BEGIN:DAYLIGHT
TZOFFSETFROM:-0700
TZOFFSETTO:-0600
TZNAME:MDT
DTSTART:20240310T090000
END:DAYLIGHT
BEGIN:STANDARD
TZOFFSETFROM:-0600
TZOFFSETTO:-0700
TZNAME:MST
DTSTART:20241103T080000
END:STANDARD
BEGIN:DAYLIGHT
TZOFFSETFROM:-0700
TZOFFSETTO:-0600
TZNAME:MDT
DTSTART:20250309T090000
END:DAYLIGHT
BEGIN:STANDARD
TZOFFSETFROM:-0600
TZOFFSETTO:-0700
TZNAME:MST
DTSTART:20251102T080000
END:STANDARD
BEGIN:DAYLIGHT
TZOFFSETFROM:-0700
TZOFFSETTO:-0600
TZNAME:MDT
DTSTART:20260308T090000
END:DAYLIGHT
BEGIN:STANDARD
TZOFFSETFROM:-0600
TZOFFSETTO:-0700
TZNAME:MST
DTSTART:20261101T080000
END:STANDARD
END:VTIMEZONE
BEGIN:VEVENT
DTSTART;TZID=America/Denver:20250921T150000
DTEND;TZID=America/Denver:20250921T170000
DTSTAMP:20260423T044051
CREATED:20250523T205010Z
LAST-MODIFIED:20250523T205010Z
UID:3680-1758466800-1758474000@saraparetsky.com
SUMMARY:Sara to speak at Barrington's White House
DESCRIPTION:In partnership with the Barrington Writers Workshop\, Sara will be speaking at Barrington’s White House. \nIndependent bookstore\, Read Between the Lynes from Woodstock\, IL will have books available for purchase and signing following the talk. \nTickets are $28.52 general\, free to those age 18 and under with paid adult.
URL:https://saraparetsky.com/event/sara-to-speak-at-barringtons-white-house/
LOCATION:Barrington White House\, 145 W Main St\, Barrington\, IL\, 60010
END:VEVENT
END:VCALENDAR